BEGIN:VCALENDAR
VERSION:2.0
PRODID:-//Center for Early Relational Health - ECPv6.15.18//NONSGML v1.0//EN
CALSCALE:GREGORIAN
METHOD:PUBLISH
X-WR-CALNAME:Center for Early Relational Health
X-ORIGINAL-URL:https://earlyrelationalhealth.org
X-WR-CALDESC:Events for Center for Early Relational Health
REFRESH-INTERVAL;VALUE=DURATION:PT1H
X-Robots-Tag:noindex
X-PUBLISHED-TTL:PT1H
BEGIN:VTIMEZONE
TZID:UTC
BEGIN:STANDARD
TZOFFSETFROM:+0000
TZOFFSETTO:+0000
TZNAME:UTC
DTSTART:20250101T000000
END:STANDARD
END:VTIMEZONE
BEGIN:VEVENT
DTSTART;TZID=UTC:20260502T090000
DTEND;TZID=UTC:20260502T120000
DTSTAMP:20260422T110921
CREATED:20260409T155241Z
LAST-MODIFIED:20260409T155241Z
UID:10001853-1777712400-1777723200@earlyrelationalhealth.org
SUMMARY:Behavior and Belonging: Race\, Innocence\, and Restorative Justice in Early Childhood
DESCRIPTION:This two-part professional learning series explores how assumptions about race\, innocence\, and ability shape adult responses to children’s behavior and contribute to exclusion and pushout in early childhood settings. \nIn the first session\, participants examine how innocence is unevenly granted\, how compliance-based practices and micro-interactions escalate conflict\, and how adult bias and adultification influence the interpretation of behavior. \nThe second session focuses on brain science\, stress\, and co-regulation\, moving participants toward restorative\, equity-centered strategies that support belonging and prevent expulsion. \nParticipants will leave with reflective tools and an action plan to shift from control-based approaches to relational\, restorative practices that center all children’s dignity\, development\, and inclusion. \nLearn more and register.
URL:https://earlyrelationalhealth.org/event/behavior-and-belonging-race-innocence-and-restorative-justice-in-early-childhood/2026-05-02/
LOCATION:Virtual
CATEGORIES:Community Offerings
ATTACH;FMTTYPE=image/png:https://earlyrelationalhealth.org/wp-content/uploads/2025/05/7.png
END:VEVENT
BEGIN:VEVENT
DTSTART;TZID=UTC:20260530T090000
DTEND;TZID=UTC:20260530T120000
DTSTAMP:20260422T110921
CREATED:20260409T155241Z
LAST-MODIFIED:20260409T155241Z
UID:10001854-1780131600-1780142400@earlyrelationalhealth.org
SUMMARY:Behavior and Belonging: Race\, Innocence\, and Restorative Justice in Early Childhood
DESCRIPTION:This two-part professional learning series explores how assumptions about race\, innocence\, and ability shape adult responses to children’s behavior and contribute to exclusion and pushout in early childhood settings. \nIn the first session\, participants examine how innocence is unevenly granted\, how compliance-based practices and micro-interactions escalate conflict\, and how adult bias and adultification influence the interpretation of behavior. \nThe second session focuses on brain science\, stress\, and co-regulation\, moving participants toward restorative\, equity-centered strategies that support belonging and prevent expulsion. \nParticipants will leave with reflective tools and an action plan to shift from control-based approaches to relational\, restorative practices that center all children’s dignity\, development\, and inclusion. \nLearn more and register.
URL:https://earlyrelationalhealth.org/event/behavior-and-belonging-race-innocence-and-restorative-justice-in-early-childhood/2026-05-30/
LOCATION:Virtual
CATEGORIES:Community Offerings
ATTACH;FMTTYPE=image/png:https://earlyrelationalhealth.org/wp-content/uploads/2025/05/7.png
END:VEVENT
END:VCALENDAR