BEGIN:VCALENDAR
VERSION:2.0
PRODID:-//Center for Early Relational Health - ECPv6.15.18//NONSGML v1.0//EN
CALSCALE:GREGORIAN
METHOD:PUBLISH
X-ORIGINAL-URL:https://earlyrelationalhealth.org
X-WR-CALDESC:Events for Center for Early Relational Health
REFRESH-INTERVAL;VALUE=DURATION:PT1H
X-Robots-Tag:noindex
X-PUBLISHED-TTL:PT1H
BEGIN:VTIMEZONE
TZID:UTC
BEGIN:STANDARD
TZOFFSETFROM:+0000
TZOFFSETTO:+0000
TZNAME:UTC
DTSTART:20270101T000000
END:STANDARD
END:VTIMEZONE
BEGIN:VEVENT
DTSTART;TZID=UTC:20280928T110000
DTEND;TZID=UTC:20280928T120000
DTSTAMP:20260420T092353
CREATED:20251219T163850Z
LAST-MODIFIED:20251219T192330Z
UID:10001674-1853751600-1853755200@earlyrelationalhealth.org
SUMMARY:Endorsement Open Office Hours
DESCRIPTION:Join Washinton’s open office Endorsement hours every Thursday to receive Endorsement Support. Office hours are free to anyone regardless of where you are in your Endorsement journey. Join now!
URL:https://earlyrelationalhealth.org/event/endorsement-open-office-hours-2/2028-09-28/
LOCATION:Virtual
CATEGORIES:IECMH Endorsement
ATTACH;FMTTYPE=image/png:https://earlyrelationalhealth.org/wp-content/uploads/2025/10/Black-and-White-Modern-Streetwear-Logo.png
END:VEVENT
BEGIN:VEVENT
DTSTART;TZID=UTC:20281005T110000
DTEND;TZID=UTC:20281005T120000
DTSTAMP:20260420T092353
CREATED:20251219T163850Z
LAST-MODIFIED:20251219T192330Z
UID:10001675-1854356400-1854360000@earlyrelationalhealth.org
SUMMARY:Endorsement Open Office Hours
DESCRIPTION:Join Washinton’s open office Endorsement hours every Thursday to receive Endorsement Support. Office hours are free to anyone regardless of where you are in your Endorsement journey. Join now!
URL:https://earlyrelationalhealth.org/event/endorsement-open-office-hours-2/2028-10-05/
LOCATION:Virtual
CATEGORIES:IECMH Endorsement
ATTACH;FMTTYPE=image/png:https://earlyrelationalhealth.org/wp-content/uploads/2025/10/Black-and-White-Modern-Streetwear-Logo.png
END:VEVENT
BEGIN:VEVENT
DTSTART;TZID=UTC:20281012T110000
DTEND;TZID=UTC:20281012T120000
DTSTAMP:20260420T092353
CREATED:20251219T163850Z
LAST-MODIFIED:20251219T192330Z
UID:10001676-1854961200-1854964800@earlyrelationalhealth.org
SUMMARY:Endorsement Open Office Hours
DESCRIPTION:Join Washinton’s open office Endorsement hours every Thursday to receive Endorsement Support. Office hours are free to anyone regardless of where you are in your Endorsement journey. Join now!
URL:https://earlyrelationalhealth.org/event/endorsement-open-office-hours-2/2028-10-12/
LOCATION:Virtual
CATEGORIES:IECMH Endorsement
ATTACH;FMTTYPE=image/png:https://earlyrelationalhealth.org/wp-content/uploads/2025/10/Black-and-White-Modern-Streetwear-Logo.png
END:VEVENT
BEGIN:VEVENT
DTSTART;TZID=UTC:20281019T110000
DTEND;TZID=UTC:20281019T120000
DTSTAMP:20260420T092353
CREATED:20251219T163850Z
LAST-MODIFIED:20251219T192330Z
UID:10001677-1855566000-1855569600@earlyrelationalhealth.org
SUMMARY:Endorsement Open Office Hours
DESCRIPTION:Join Washinton’s open office Endorsement hours every Thursday to receive Endorsement Support. Office hours are free to anyone regardless of where you are in your Endorsement journey. Join now!
URL:https://earlyrelationalhealth.org/event/endorsement-open-office-hours-2/2028-10-19/
LOCATION:Virtual
CATEGORIES:IECMH Endorsement
ATTACH;FMTTYPE=image/png:https://earlyrelationalhealth.org/wp-content/uploads/2025/10/Black-and-White-Modern-Streetwear-Logo.png
END:VEVENT
BEGIN:VEVENT
DTSTART;TZID=UTC:20281026T110000
DTEND;TZID=UTC:20281026T120000
DTSTAMP:20260420T092353
CREATED:20251219T163850Z
LAST-MODIFIED:20251219T192330Z
UID:10001678-1856170800-1856174400@earlyrelationalhealth.org
SUMMARY:Endorsement Open Office Hours
DESCRIPTION:Join Washinton’s open office Endorsement hours every Thursday to receive Endorsement Support. Office hours are free to anyone regardless of where you are in your Endorsement journey. Join now!
URL:https://earlyrelationalhealth.org/event/endorsement-open-office-hours-2/2028-10-26/
LOCATION:Virtual
CATEGORIES:IECMH Endorsement
ATTACH;FMTTYPE=image/png:https://earlyrelationalhealth.org/wp-content/uploads/2025/10/Black-and-White-Modern-Streetwear-Logo.png
END:VEVENT
BEGIN:VEVENT
DTSTART;TZID=UTC:20281102T110000
DTEND;TZID=UTC:20281102T120000
DTSTAMP:20260420T092353
CREATED:20251219T163850Z
LAST-MODIFIED:20251219T192330Z
UID:10001679-1856775600-1856779200@earlyrelationalhealth.org
SUMMARY:Endorsement Open Office Hours
DESCRIPTION:Join Washinton’s open office Endorsement hours every Thursday to receive Endorsement Support. Office hours are free to anyone regardless of where you are in your Endorsement journey. Join now!
URL:https://earlyrelationalhealth.org/event/endorsement-open-office-hours-2/2028-11-02/
LOCATION:Virtual
CATEGORIES:IECMH Endorsement
ATTACH;FMTTYPE=image/png:https://earlyrelationalhealth.org/wp-content/uploads/2025/10/Black-and-White-Modern-Streetwear-Logo.png
END:VEVENT
BEGIN:VEVENT
DTSTART;TZID=UTC:20281109T110000
DTEND;TZID=UTC:20281109T120000
DTSTAMP:20260420T092353
CREATED:20251219T163850Z
LAST-MODIFIED:20251219T192330Z
UID:10001680-1857380400-1857384000@earlyrelationalhealth.org
SUMMARY:Endorsement Open Office Hours
DESCRIPTION:Join Washinton’s open office Endorsement hours every Thursday to receive Endorsement Support. Office hours are free to anyone regardless of where you are in your Endorsement journey. Join now!
URL:https://earlyrelationalhealth.org/event/endorsement-open-office-hours-2/2028-11-09/
LOCATION:Virtual
CATEGORIES:IECMH Endorsement
ATTACH;FMTTYPE=image/png:https://earlyrelationalhealth.org/wp-content/uploads/2025/10/Black-and-White-Modern-Streetwear-Logo.png
END:VEVENT
BEGIN:VEVENT
DTSTART;TZID=UTC:20281116T110000
DTEND;TZID=UTC:20281116T120000
DTSTAMP:20260420T092353
CREATED:20251219T163850Z
LAST-MODIFIED:20251219T192330Z
UID:10001681-1857985200-1857988800@earlyrelationalhealth.org
SUMMARY:Endorsement Open Office Hours
DESCRIPTION:Join Washinton’s open office Endorsement hours every Thursday to receive Endorsement Support. Office hours are free to anyone regardless of where you are in your Endorsement journey. Join now!
URL:https://earlyrelationalhealth.org/event/endorsement-open-office-hours-2/2028-11-16/
LOCATION:Virtual
CATEGORIES:IECMH Endorsement
ATTACH;FMTTYPE=image/png:https://earlyrelationalhealth.org/wp-content/uploads/2025/10/Black-and-White-Modern-Streetwear-Logo.png
END:VEVENT
BEGIN:VEVENT
DTSTART;TZID=UTC:20281123T110000
DTEND;TZID=UTC:20281123T120000
DTSTAMP:20260420T092353
CREATED:20251219T163850Z
LAST-MODIFIED:20251219T192330Z
UID:10001682-1858590000-1858593600@earlyrelationalhealth.org
SUMMARY:Endorsement Open Office Hours
DESCRIPTION:Join Washinton’s open office Endorsement hours every Thursday to receive Endorsement Support. Office hours are free to anyone regardless of where you are in your Endorsement journey. Join now!
URL:https://earlyrelationalhealth.org/event/endorsement-open-office-hours-2/2028-11-23/
LOCATION:Virtual
CATEGORIES:IECMH Endorsement
ATTACH;FMTTYPE=image/png:https://earlyrelationalhealth.org/wp-content/uploads/2025/10/Black-and-White-Modern-Streetwear-Logo.png
END:VEVENT
BEGIN:VEVENT
DTSTART;TZID=UTC:20281130T110000
DTEND;TZID=UTC:20281130T120000
DTSTAMP:20260420T092353
CREATED:20251219T163850Z
LAST-MODIFIED:20251219T192330Z
UID:10001683-1859194800-1859198400@earlyrelationalhealth.org
SUMMARY:Endorsement Open Office Hours
DESCRIPTION:Join Washinton’s open office Endorsement hours every Thursday to receive Endorsement Support. Office hours are free to anyone regardless of where you are in your Endorsement journey. Join now!
URL:https://earlyrelationalhealth.org/event/endorsement-open-office-hours-2/2028-11-30/
LOCATION:Virtual
CATEGORIES:IECMH Endorsement
ATTACH;FMTTYPE=image/png:https://earlyrelationalhealth.org/wp-content/uploads/2025/10/Black-and-White-Modern-Streetwear-Logo.png
END:VEVENT
BEGIN:VEVENT
DTSTART;TZID=UTC:20281207T110000
DTEND;TZID=UTC:20281207T120000
DTSTAMP:20260420T092353
CREATED:20251219T163850Z
LAST-MODIFIED:20251219T192330Z
UID:10001684-1859799600-1859803200@earlyrelationalhealth.org
SUMMARY:Endorsement Open Office Hours
DESCRIPTION:Join Washinton’s open office Endorsement hours every Thursday to receive Endorsement Support. Office hours are free to anyone regardless of where you are in your Endorsement journey. Join now!
URL:https://earlyrelationalhealth.org/event/endorsement-open-office-hours-2/2028-12-07/
LOCATION:Virtual
CATEGORIES:IECMH Endorsement
ATTACH;FMTTYPE=image/png:https://earlyrelationalhealth.org/wp-content/uploads/2025/10/Black-and-White-Modern-Streetwear-Logo.png
END:VEVENT
BEGIN:VEVENT
DTSTART;TZID=UTC:20281214T110000
DTEND;TZID=UTC:20281214T120000
DTSTAMP:20260420T092353
CREATED:20251219T163850Z
LAST-MODIFIED:20251219T192330Z
UID:10001685-1860404400-1860408000@earlyrelationalhealth.org
SUMMARY:Endorsement Open Office Hours
DESCRIPTION:Join Washinton’s open office Endorsement hours every Thursday to receive Endorsement Support. Office hours are free to anyone regardless of where you are in your Endorsement journey. Join now!
URL:https://earlyrelationalhealth.org/event/endorsement-open-office-hours-2/2028-12-14/
LOCATION:Virtual
CATEGORIES:IECMH Endorsement
ATTACH;FMTTYPE=image/png:https://earlyrelationalhealth.org/wp-content/uploads/2025/10/Black-and-White-Modern-Streetwear-Logo.png
END:VEVENT
BEGIN:VEVENT
DTSTART;TZID=UTC:20281221T110000
DTEND;TZID=UTC:20281221T120000
DTSTAMP:20260420T092353
CREATED:20251219T163850Z
LAST-MODIFIED:20251219T192330Z
UID:10001686-1861009200-1861012800@earlyrelationalhealth.org
SUMMARY:Endorsement Open Office Hours
DESCRIPTION:Join Washinton’s open office Endorsement hours every Thursday to receive Endorsement Support. Office hours are free to anyone regardless of where you are in your Endorsement journey. Join now!
URL:https://earlyrelationalhealth.org/event/endorsement-open-office-hours-2/2028-12-21/
LOCATION:Virtual
CATEGORIES:IECMH Endorsement
ATTACH;FMTTYPE=image/png:https://earlyrelationalhealth.org/wp-content/uploads/2025/10/Black-and-White-Modern-Streetwear-Logo.png
END:VEVENT
BEGIN:VEVENT
DTSTART;TZID=UTC:20281228T110000
DTEND;TZID=UTC:20281228T120000
DTSTAMP:20260420T092353
CREATED:20251219T163850Z
LAST-MODIFIED:20251219T192330Z
UID:10001687-1861614000-1861617600@earlyrelationalhealth.org
SUMMARY:Endorsement Open Office Hours
DESCRIPTION:Join Washinton’s open office Endorsement hours every Thursday to receive Endorsement Support. Office hours are free to anyone regardless of where you are in your Endorsement journey. Join now!
URL:https://earlyrelationalhealth.org/event/endorsement-open-office-hours-2/2028-12-28/
LOCATION:Virtual
CATEGORIES:IECMH Endorsement
ATTACH;FMTTYPE=image/png:https://earlyrelationalhealth.org/wp-content/uploads/2025/10/Black-and-White-Modern-Streetwear-Logo.png
END:VEVENT
BEGIN:VEVENT
DTSTART;TZID=UTC:20290104T110000
DTEND;TZID=UTC:20290104T120000
DTSTAMP:20260420T092353
CREATED:20251219T163850Z
LAST-MODIFIED:20251219T192330Z
UID:10001688-1862218800-1862222400@earlyrelationalhealth.org
SUMMARY:Endorsement Open Office Hours
DESCRIPTION:Join Washinton’s open office Endorsement hours every Thursday to receive Endorsement Support. Office hours are free to anyone regardless of where you are in your Endorsement journey. Join now!
URL:https://earlyrelationalhealth.org/event/endorsement-open-office-hours-2/2029-01-04/
LOCATION:Virtual
CATEGORIES:IECMH Endorsement
ATTACH;FMTTYPE=image/png:https://earlyrelationalhealth.org/wp-content/uploads/2025/10/Black-and-White-Modern-Streetwear-Logo.png
END:VEVENT
BEGIN:VEVENT
DTSTART;TZID=UTC:20290111T110000
DTEND;TZID=UTC:20290111T120000
DTSTAMP:20260420T092354
CREATED:20251219T163850Z
LAST-MODIFIED:20251219T192330Z
UID:10001689-1862823600-1862827200@earlyrelationalhealth.org
SUMMARY:Endorsement Open Office Hours
DESCRIPTION:Join Washinton’s open office Endorsement hours every Thursday to receive Endorsement Support. Office hours are free to anyone regardless of where you are in your Endorsement journey. Join now!
URL:https://earlyrelationalhealth.org/event/endorsement-open-office-hours-2/2029-01-11/
LOCATION:Virtual
CATEGORIES:IECMH Endorsement
ATTACH;FMTTYPE=image/png:https://earlyrelationalhealth.org/wp-content/uploads/2025/10/Black-and-White-Modern-Streetwear-Logo.png
END:VEVENT
BEGIN:VEVENT
DTSTART;TZID=UTC:20290118T110000
DTEND;TZID=UTC:20290118T120000
DTSTAMP:20260420T092354
CREATED:20251219T163850Z
LAST-MODIFIED:20251219T192330Z
UID:10001690-1863428400-1863432000@earlyrelationalhealth.org
SUMMARY:Endorsement Open Office Hours
DESCRIPTION:Join Washinton’s open office Endorsement hours every Thursday to receive Endorsement Support. Office hours are free to anyone regardless of where you are in your Endorsement journey. Join now!
URL:https://earlyrelationalhealth.org/event/endorsement-open-office-hours-2/2029-01-18/
LOCATION:Virtual
CATEGORIES:IECMH Endorsement
ATTACH;FMTTYPE=image/png:https://earlyrelationalhealth.org/wp-content/uploads/2025/10/Black-and-White-Modern-Streetwear-Logo.png
END:VEVENT
BEGIN:VEVENT
DTSTART;TZID=UTC:20290125T110000
DTEND;TZID=UTC:20290125T120000
DTSTAMP:20260420T092354
CREATED:20251219T163850Z
LAST-MODIFIED:20251219T192330Z
UID:10001691-1864033200-1864036800@earlyrelationalhealth.org
SUMMARY:Endorsement Open Office Hours
DESCRIPTION:Join Washinton’s open office Endorsement hours every Thursday to receive Endorsement Support. Office hours are free to anyone regardless of where you are in your Endorsement journey. Join now!
URL:https://earlyrelationalhealth.org/event/endorsement-open-office-hours-2/2029-01-25/
LOCATION:Virtual
CATEGORIES:IECMH Endorsement
ATTACH;FMTTYPE=image/png:https://earlyrelationalhealth.org/wp-content/uploads/2025/10/Black-and-White-Modern-Streetwear-Logo.png
END:VEVENT
BEGIN:VEVENT
DTSTART;TZID=UTC:20290201T110000
DTEND;TZID=UTC:20290201T120000
DTSTAMP:20260420T092354
CREATED:20251219T163850Z
LAST-MODIFIED:20251219T192330Z
UID:10001692-1864638000-1864641600@earlyrelationalhealth.org
SUMMARY:Endorsement Open Office Hours
DESCRIPTION:Join Washinton’s open office Endorsement hours every Thursday to receive Endorsement Support. Office hours are free to anyone regardless of where you are in your Endorsement journey. Join now!
URL:https://earlyrelationalhealth.org/event/endorsement-open-office-hours-2/2029-02-01/
LOCATION:Virtual
CATEGORIES:IECMH Endorsement
ATTACH;FMTTYPE=image/png:https://earlyrelationalhealth.org/wp-content/uploads/2025/10/Black-and-White-Modern-Streetwear-Logo.png
END:VEVENT
BEGIN:VEVENT
DTSTART;TZID=UTC:20290208T110000
DTEND;TZID=UTC:20290208T120000
DTSTAMP:20260420T092354
CREATED:20251219T163850Z
LAST-MODIFIED:20251219T192330Z
UID:10001693-1865242800-1865246400@earlyrelationalhealth.org
SUMMARY:Endorsement Open Office Hours
DESCRIPTION:Join Washinton’s open office Endorsement hours every Thursday to receive Endorsement Support. Office hours are free to anyone regardless of where you are in your Endorsement journey. Join now!
URL:https://earlyrelationalhealth.org/event/endorsement-open-office-hours-2/2029-02-08/
LOCATION:Virtual
CATEGORIES:IECMH Endorsement
ATTACH;FMTTYPE=image/png:https://earlyrelationalhealth.org/wp-content/uploads/2025/10/Black-and-White-Modern-Streetwear-Logo.png
END:VEVENT
BEGIN:VEVENT
DTSTART;TZID=UTC:20290215T110000
DTEND;TZID=UTC:20290215T120000
DTSTAMP:20260420T092354
CREATED:20251219T163850Z
LAST-MODIFIED:20251219T192330Z
UID:10001694-1865847600-1865851200@earlyrelationalhealth.org
SUMMARY:Endorsement Open Office Hours
DESCRIPTION:Join Washinton’s open office Endorsement hours every Thursday to receive Endorsement Support. Office hours are free to anyone regardless of where you are in your Endorsement journey. Join now!
URL:https://earlyrelationalhealth.org/event/endorsement-open-office-hours-2/2029-02-15/
LOCATION:Virtual
CATEGORIES:IECMH Endorsement
ATTACH;FMTTYPE=image/png:https://earlyrelationalhealth.org/wp-content/uploads/2025/10/Black-and-White-Modern-Streetwear-Logo.png
END:VEVENT
BEGIN:VEVENT
DTSTART;TZID=UTC:20290222T110000
DTEND;TZID=UTC:20290222T120000
DTSTAMP:20260420T092354
CREATED:20251219T163850Z
LAST-MODIFIED:20251219T192330Z
UID:10001695-1866452400-1866456000@earlyrelationalhealth.org
SUMMARY:Endorsement Open Office Hours
DESCRIPTION:Join Washinton’s open office Endorsement hours every Thursday to receive Endorsement Support. Office hours are free to anyone regardless of where you are in your Endorsement journey. Join now!
URL:https://earlyrelationalhealth.org/event/endorsement-open-office-hours-2/2029-02-22/
LOCATION:Virtual
CATEGORIES:IECMH Endorsement
ATTACH;FMTTYPE=image/png:https://earlyrelationalhealth.org/wp-content/uploads/2025/10/Black-and-White-Modern-Streetwear-Logo.png
END:VEVENT
BEGIN:VEVENT
DTSTART;TZID=UTC:20290301T110000
DTEND;TZID=UTC:20290301T120000
DTSTAMP:20260420T092354
CREATED:20251219T163850Z
LAST-MODIFIED:20251219T192330Z
UID:10001696-1867057200-1867060800@earlyrelationalhealth.org
SUMMARY:Endorsement Open Office Hours
DESCRIPTION:Join Washinton’s open office Endorsement hours every Thursday to receive Endorsement Support. Office hours are free to anyone regardless of where you are in your Endorsement journey. Join now!
URL:https://earlyrelationalhealth.org/event/endorsement-open-office-hours-2/2029-03-01/
LOCATION:Virtual
CATEGORIES:IECMH Endorsement
ATTACH;FMTTYPE=image/png:https://earlyrelationalhealth.org/wp-content/uploads/2025/10/Black-and-White-Modern-Streetwear-Logo.png
END:VEVENT
BEGIN:VEVENT
DTSTART;TZID=UTC:20290308T110000
DTEND;TZID=UTC:20290308T120000
DTSTAMP:20260420T092354
CREATED:20251219T163850Z
LAST-MODIFIED:20251219T192330Z
UID:10001697-1867662000-1867665600@earlyrelationalhealth.org
SUMMARY:Endorsement Open Office Hours
DESCRIPTION:Join Washinton’s open office Endorsement hours every Thursday to receive Endorsement Support. Office hours are free to anyone regardless of where you are in your Endorsement journey. Join now!
URL:https://earlyrelationalhealth.org/event/endorsement-open-office-hours-2/2029-03-08/
LOCATION:Virtual
CATEGORIES:IECMH Endorsement
ATTACH;FMTTYPE=image/png:https://earlyrelationalhealth.org/wp-content/uploads/2025/10/Black-and-White-Modern-Streetwear-Logo.png
END:VEVENT
BEGIN:VEVENT
DTSTART;TZID=UTC:20290315T110000
DTEND;TZID=UTC:20290315T120000
DTSTAMP:20260420T092354
CREATED:20251219T163850Z
LAST-MODIFIED:20251219T192330Z
UID:10001698-1868266800-1868270400@earlyrelationalhealth.org
SUMMARY:Endorsement Open Office Hours
DESCRIPTION:Join Washinton’s open office Endorsement hours every Thursday to receive Endorsement Support. Office hours are free to anyone regardless of where you are in your Endorsement journey. Join now!
URL:https://earlyrelationalhealth.org/event/endorsement-open-office-hours-2/2029-03-15/
LOCATION:Virtual
CATEGORIES:IECMH Endorsement
ATTACH;FMTTYPE=image/png:https://earlyrelationalhealth.org/wp-content/uploads/2025/10/Black-and-White-Modern-Streetwear-Logo.png
END:VEVENT
BEGIN:VEVENT
DTSTART;TZID=UTC:20290322T110000
DTEND;TZID=UTC:20290322T120000
DTSTAMP:20260420T092354
CREATED:20251219T163850Z
LAST-MODIFIED:20251219T192330Z
UID:10001699-1868871600-1868875200@earlyrelationalhealth.org
SUMMARY:Endorsement Open Office Hours
DESCRIPTION:Join Washinton’s open office Endorsement hours every Thursday to receive Endorsement Support. Office hours are free to anyone regardless of where you are in your Endorsement journey. Join now!
URL:https://earlyrelationalhealth.org/event/endorsement-open-office-hours-2/2029-03-22/
LOCATION:Virtual
CATEGORIES:IECMH Endorsement
ATTACH;FMTTYPE=image/png:https://earlyrelationalhealth.org/wp-content/uploads/2025/10/Black-and-White-Modern-Streetwear-Logo.png
END:VEVENT
BEGIN:VEVENT
DTSTART;TZID=UTC:20290329T110000
DTEND;TZID=UTC:20290329T120000
DTSTAMP:20260420T092354
CREATED:20251219T163850Z
LAST-MODIFIED:20251219T192330Z
UID:10001700-1869476400-1869480000@earlyrelationalhealth.org
SUMMARY:Endorsement Open Office Hours
DESCRIPTION:Join Washinton’s open office Endorsement hours every Thursday to receive Endorsement Support. Office hours are free to anyone regardless of where you are in your Endorsement journey. Join now!
URL:https://earlyrelationalhealth.org/event/endorsement-open-office-hours-2/2029-03-29/
LOCATION:Virtual
CATEGORIES:IECMH Endorsement
ATTACH;FMTTYPE=image/png:https://earlyrelationalhealth.org/wp-content/uploads/2025/10/Black-and-White-Modern-Streetwear-Logo.png
END:VEVENT
BEGIN:VEVENT
DTSTART;TZID=UTC:20290405T110000
DTEND;TZID=UTC:20290405T120000
DTSTAMP:20260420T092354
CREATED:20251219T163850Z
LAST-MODIFIED:20251219T192330Z
UID:10001701-1870081200-1870084800@earlyrelationalhealth.org
SUMMARY:Endorsement Open Office Hours
DESCRIPTION:Join Washinton’s open office Endorsement hours every Thursday to receive Endorsement Support. Office hours are free to anyone regardless of where you are in your Endorsement journey. Join now!
URL:https://earlyrelationalhealth.org/event/endorsement-open-office-hours-2/2029-04-05/
LOCATION:Virtual
CATEGORIES:IECMH Endorsement
ATTACH;FMTTYPE=image/png:https://earlyrelationalhealth.org/wp-content/uploads/2025/10/Black-and-White-Modern-Streetwear-Logo.png
END:VEVENT
BEGIN:VEVENT
DTSTART;TZID=UTC:20290412T110000
DTEND;TZID=UTC:20290412T120000
DTSTAMP:20260420T092354
CREATED:20251219T163850Z
LAST-MODIFIED:20251219T192330Z
UID:10001702-1870686000-1870689600@earlyrelationalhealth.org
SUMMARY:Endorsement Open Office Hours
DESCRIPTION:Join Washinton’s open office Endorsement hours every Thursday to receive Endorsement Support. Office hours are free to anyone regardless of where you are in your Endorsement journey. Join now!
URL:https://earlyrelationalhealth.org/event/endorsement-open-office-hours-2/2029-04-12/
LOCATION:Virtual
CATEGORIES:IECMH Endorsement
ATTACH;FMTTYPE=image/png:https://earlyrelationalhealth.org/wp-content/uploads/2025/10/Black-and-White-Modern-Streetwear-Logo.png
END:VEVENT
BEGIN:VEVENT
DTSTART;TZID=UTC:20290419T110000
DTEND;TZID=UTC:20290419T120000
DTSTAMP:20260420T092354
CREATED:20251219T163850Z
LAST-MODIFIED:20251219T192330Z
UID:10001703-1871290800-1871294400@earlyrelationalhealth.org
SUMMARY:Endorsement Open Office Hours
DESCRIPTION:Join Washinton’s open office Endorsement hours every Thursday to receive Endorsement Support. Office hours are free to anyone regardless of where you are in your Endorsement journey. Join now!
URL:https://earlyrelationalhealth.org/event/endorsement-open-office-hours-2/2029-04-19/
LOCATION:Virtual
CATEGORIES:IECMH Endorsement
ATTACH;FMTTYPE=image/png:https://earlyrelationalhealth.org/wp-content/uploads/2025/10/Black-and-White-Modern-Streetwear-Logo.png
END:VEVENT
END:VCALENDAR