BEGIN:VCALENDAR
VERSION:2.0
PRODID:-//Center for Early Relational Health - ECPv6.15.18//NONSGML v1.0//EN
CALSCALE:GREGORIAN
METHOD:PUBLISH
X-ORIGINAL-URL:https://earlyrelationalhealth.org
X-WR-CALDESC:Events for Center for Early Relational Health
REFRESH-INTERVAL;VALUE=DURATION:PT1H
X-Robots-Tag:noindex
X-PUBLISHED-TTL:PT1H
BEGIN:VTIMEZONE
TZID:UTC
BEGIN:STANDARD
TZOFFSETFROM:+0000
TZOFFSETTO:+0000
TZNAME:UTC
DTSTART:20240101T000000
END:STANDARD
END:VTIMEZONE
BEGIN:VEVENT
DTSTART;TZID=UTC:20251103T090000
DTEND;TZID=UTC:20251103T103000
DTSTAMP:20260422T092459
CREATED:20251016T165940Z
LAST-MODIFIED:20251016T170022Z
UID:10001184-1762160400-1762165800@earlyrelationalhealth.org
SUMMARY:Transforming the Hospital-to-Home Journey: Strengthening Supports for NICU Caregivers and their Infants Post-Discharge
DESCRIPTION:BARNARD CENTER FREE LECTURE SERIES \nCaregivers of NICU infants are at significantly higher risk of perinatal mental health challenges which can impact early relational health and infant development\, particularly feeding – a complex\, relationship-based process that can become a source of immense stress for families.  Every family who leaves the NICU should have the support they need.  Yet current post-discharge systems of care are fragmented and inequitable. Northwest Center’s Hospital-to-Home care model works to change this by integrating siloed services\, reducing points of contact for families\, and ensuring universal screening for resource and mental health needs alongside infant developmental and feeding therapy.  This session will highlight both the need for this support and our ongoing efforts to create more equitable\, coordinated NICU-to-home transitions that optimize outcomes for infants and their families. Register now
URL:https://earlyrelationalhealth.org/event/transforming-the-hospital-to-home-journey-strengthening-supports-for-nicu-caregivers-and-their-infants-post-discharge/
LOCATION:Virtual
CATEGORIES:Community Offerings
ATTACH;FMTTYPE=image/png:https://earlyrelationalhealth.org/wp-content/uploads/2025/09/7.png
END:VEVENT
BEGIN:VEVENT
DTSTART;TZID=UTC:20251103T090000
DTEND;TZID=UTC:20251103T120000
DTSTAMP:20260422T092459
CREATED:20251016T165758Z
LAST-MODIFIED:20251016T165758Z
UID:10001183-1762160400-1762171200@earlyrelationalhealth.org
SUMMARY:Connecting with Families Using their Child’s Behavior as Language
DESCRIPTION:Learn how to use observation\, narration\, and the invitation to parents to offer their perspectives on their child’s development as a way to support children who are experiencing overwhelming emotions. Explore the power of using the behavior of a child as our language with families and providers through observation\, narration\, and the invitation to parents to offer their perspectives on their child’s development. Learn how putting the child’s behavior into words with the child can also be used as a tool to support healthy social-emotional development. We will discuss strategies providers can use to deepen their partnerships with families and support child-family relationships using a strengths-based lens. This lens is critical to supporting children who are experiencing overwhelming emotions that might show up as behaviors that challenge adults. Register now
URL:https://earlyrelationalhealth.org/event/connecting-with-families-using-their-childs-behavior-as-language-2/
LOCATION:Virtual
CATEGORIES:Community Offerings
ATTACH;FMTTYPE=image/png:https://earlyrelationalhealth.org/wp-content/uploads/2025/09/8.png
END:VEVENT
BEGIN:VEVENT
DTSTART;TZID=UTC:20251103T123000
DTEND;TZID=UTC:20251103T140000
DTSTAMP:20260422T092459
CREATED:20250926T184300Z
LAST-MODIFIED:20251016T170436Z
UID:10000861-1762173000-1762178400@earlyrelationalhealth.org
SUMMARY:“Why do they do that?!” – Behaviors in Relationships (In Person\, Kitsap County)
DESCRIPTION:Parents and caregivers seek support with and for their young children most often due to children’s challenging behaviors. While we know that behaviors have meaning\, how the behaviors make us feel and how we understand them can prevent us from staying present and attuning to the needs of children who are exhibiting challenging behaviors. This presentation summarizes the Dynamic Maturational Model of Attachment and brings into conversation empirical perspectives and knowledge to support parents and caregivers to hold our children’s behaviors as adaptive strategies to communicate their needs. In doing so\, we support our children’s capacity to experience\, express\, and regulate their emotions\, in turn promoting their learning\, exploration\, and ability to be in “right” relationship with themselves and others. Hosted by the Advanced Clinical Training Program at the Barnard Center. \nMonday\, 11/3 from 12:30 – 2:00 pm \nOESD114\, 105 National Ave. N\, Bremerton\, WA 98312 \nRegister now \nStay for an information session about the Barnard Center’s Advanced Clinical Training (ACT) Program in infant and early childhood mental health at the University of Washington from 2:00 – 3:30 pm.
URL:https://earlyrelationalhealth.org/event/why-do-they-do-that-behaviors-in-relationships-in-person/
CATEGORIES:Community Offerings
ATTACH;FMTTYPE=image/png:https://earlyrelationalhealth.org/wp-content/uploads/2025/09/8.png
END:VEVENT
BEGIN:VEVENT
DTSTART;TZID=UTC:20251105T130000
DTEND;TZID=UTC:20251105T140000
DTSTAMP:20260422T092459
CREATED:20250228T164711Z
LAST-MODIFIED:20250911T165759Z
UID:10000711-1762347600-1762351200@earlyrelationalhealth.org
SUMMARY:Newborn Behavior International Leaders in the Field Webinar Series
DESCRIPTION:Boston Children’s Hospital’s Leaders in the Field Webinar Series \nThe first Wednesday of each month from 1-2 pm PT. \nSpeakers announced one week before the event. \nRegister now.
URL:https://earlyrelationalhealth.org/event/newborn-behavior-international-leaders-in-the-field-webinar-series-6/
LOCATION:Virtual
CATEGORIES:Community Offerings
ATTACH;FMTTYPE=image/png:https://earlyrelationalhealth.org/wp-content/uploads/2025/09/7.png
END:VEVENT
BEGIN:VEVENT
DTSTART;TZID=UTC:20251107T120000
DTEND;TZID=UTC:20251107T130000
DTSTAMP:20260422T092459
CREATED:20250325T161417Z
LAST-MODIFIED:20250911T165744Z
UID:10000742-1762516800-1762520400@earlyrelationalhealth.org
SUMMARY:Indigenous Beats\, Indigenous Songs: The Connection between Music and Learning in Native Early Childhood Education
DESCRIPTION:We invite Native parents\, teachers\, and caregivers\, along with those working with Native children and families and those interested in the work of raising our Indigenous children\, to join us for the second season of Turtle Talk: Collectively Raising Indige-babies\, a BTC Family-to-Family Real Talk virtual conversation series! All are welcome! \nThis season\, we will have episodes on Indigenous birthing practices\, Native language immersion efforts\, Indigenous Visiting with families\, and Indigenous music in the Native early childhood education setting. All episodes are free and open access — register today! \nThe series is convened by the Indigenous Early Learning Collaborative (IELC) Institute and was conceptualized as a fun way to engage parents and families in thinking forward about how we collectively raise Indigenous children and babies in a contemporary and fast-growing technological\, global Indigenous society. The series is moderated by Tarajean Yazzie-Mintz\, EdD\, IELC Institute Director and Co-Founder and Principal Consultant at First Light Education Project. \nOur 60-minute conversations run on four Fridays\, beginning on May 2nd and ending on November 7th. Each webinar has live Spanish language translation and closed captioning available. \nRegister now
URL:https://earlyrelationalhealth.org/event/indigenous-beats-indigenous-songs-the-connection-between-music-and-learning-in-native-early-childhood-education/
LOCATION:Virtual
CATEGORIES:Community Offerings
ATTACH;FMTTYPE=image/png:https://earlyrelationalhealth.org/wp-content/uploads/2025/09/7.png
END:VEVENT
BEGIN:VEVENT
DTSTART;TZID=UTC:20251107T120000
DTEND;TZID=UTC:20251107T130000
DTSTAMP:20260422T092459
CREATED:20251028T154409Z
LAST-MODIFIED:20251028T154409Z
UID:10001203-1762516800-1762520400@earlyrelationalhealth.org
SUMMARY:Indigenous Beats\, Indigenous Songs - The Connection between Music and Learning in Native Early Childhood Education
DESCRIPTION:In so many classrooms\, languages are taught by taking English songs and translating them into another language. Join us to explore the power of Indigenous sounds\, songs\, and beats in the teaching and learning environment: What possibilities exist for educators of Native early learners to use Indigenous songs\, Indigenous rhythms\, and Indigenous beats as part of the curriculum? How can we use music with Native early learners to teach language and culture? What might we discover about our chants\, music\, and melodies that enriches the learning in a Native early childhood setting? What role might Indigenous music and sound play in development of literacy\, language\, and gross and fine motor skills? How can we create increased opportunities to infuse Indigenous language learning with innovative\, creative\, and artistic learning and teaching? Register now.
URL:https://earlyrelationalhealth.org/event/indigenous-beats-indigenous-songs-the-connection-between-music-and-learning-in-native-early-childhood-education-2/
LOCATION:Virtual
CATEGORIES:Community Offerings
ATTACH;FMTTYPE=image/png:https://earlyrelationalhealth.org/wp-content/uploads/2025/09/7.png
END:VEVENT
BEGIN:VEVENT
DTSTART;TZID=UTC:20251110T110000
DTEND;TZID=UTC:20251110T123000
DTSTAMP:20260422T092459
CREATED:20251017T152849Z
LAST-MODIFIED:20251017T152849Z
UID:10001194-1762772400-1762777800@earlyrelationalhealth.org
SUMMARY:Expansive Possibilities of Attachment/Relational Health: Indigenous (Navajo) Connection and Relationships within Traditional Practices of Caregiving
DESCRIPTION:Presenter will center Indigenous (Navajo) Attachment and Caregiving through Storytelling and Life Wonder-ing. The importance of spirituality and honoring self in intergenerational healing…  (story is still being told) \nFacilitated by Dawn A. Yazzie\, MA\, NCC  – Founding Director Dził Nitsaa Consulting and Services\, LLC \nRegister now
URL:https://earlyrelationalhealth.org/event/expansive-possibilities-of-attachment-relational-health-indigenous-navajo-connection-and-relationships-within-traditional-practices-of-caregiving/
LOCATION:Virtual
CATEGORIES:Community Offerings
ATTACH;FMTTYPE=image/png:https://earlyrelationalhealth.org/wp-content/uploads/2025/09/7.png
END:VEVENT
BEGIN:VEVENT
DTSTART;TZID=UTC:20251110T120000
DTEND;TZID=UTC:20251110T130000
DTSTAMP:20260422T092459
CREATED:20251029T212006Z
LAST-MODIFIED:20251029T212006Z
UID:10001222-1762776000-1762779600@earlyrelationalhealth.org
SUMMARY:Raising Children Who Are Accountable and Empowered
DESCRIPTION:This episode’s conversation will be delivered in English with live Spanish translation. \nIn this episode\, we explore machismo and traditional beliefs about masculinity — where these ideas come from\, how they’ve shaped our culture\, and how they impact the way children grow\, learn\, and relate to one another. We’ll look at how these cultural norms influence children’s emotional expression and sense of responsibility\, and how they also affect their confidence\, voice\, and leadership. Together\, we’ll examine how these beliefs show up in our daily lives and how caregivers — including fathers\, mothers\, and extended family — can nurture emotional strength\, mutual respect\, and purpose in both girls and boys. This session invites all of us to reflect\, grow\, and raise youth who thrive and uplift each other. Register now.
URL:https://earlyrelationalhealth.org/event/raising-children-who-are-accountable-and-empowered/
LOCATION:Virtual
CATEGORIES:Community Offerings
ATTACH;FMTTYPE=image/png:https://earlyrelationalhealth.org/wp-content/uploads/2025/09/7.png
END:VEVENT
BEGIN:VEVENT
DTSTART;TZID=UTC:20251111T090000
DTEND;TZID=UTC:20251111T100000
DTSTAMP:20260422T092459
CREATED:20251016T170347Z
LAST-MODIFIED:20251016T170347Z
UID:10001186-1762851600-1762855200@earlyrelationalhealth.org
SUMMARY:“Why do they do that?!” – Behaviors in Relationships​ (Virtual)
DESCRIPTION:Parents and caregivers seek support with and for their young children most often due to children’s challenging behaviors. While we know that behaviors have meaning\, how the behaviors make us feel and how we understand them can prevent us from staying present and attuning to the needs of children who are exhibiting challenging behaviors. This presentation summarizes the Dynamic Maturational Model of Attachment and brings into conversation empirical perspectives and knowledge to support parents and caregivers to hold our children’s behaviors as adaptive strategies to communicate their needs. In doing so\, we support our children’s capacity to experience\, express\, and regulate their emotions\, in turn promoting their learning\, exploration\, and ability to be in “right” relationship with themselves and others. Hosted by the Advanced Clinical Training Program at the Barnard Center. Register now
URL:https://earlyrelationalhealth.org/event/why-do-they-do-that-behaviors-in-relationships-virtual/
LOCATION:Virtual
CATEGORIES:Community Offerings
ATTACH;FMTTYPE=image/png:https://earlyrelationalhealth.org/wp-content/uploads/2025/09/8.png
END:VEVENT
BEGIN:VEVENT
DTSTART;TZID=UTC:20251112T130000
DTEND;TZID=UTC:20251112T150000
DTSTAMP:20260422T092459
CREATED:20251016T171716Z
LAST-MODIFIED:20251016T171716Z
UID:10001191-1762952400-1762959600@earlyrelationalhealth.org
SUMMARY:PICCOLO Refresher
DESCRIPTION:Refresher – Building on Parenting Interactions with Children: Checklist of Observations Linked to Outcomes (PICCOLO) \nAudience: This refresher course is a high-level review of the 3/4-part training. It is designed for home visitors or supervisors who have completed the full PICCOLO training within the last five years. \nLearning objectives: After completing this training\, participants will be able to: · Understand the different domains of the PICCOLO tool. · Use the PICCOLO to give parents strengths-based feedback on positive interactions. Prerecorded videos https://www.youtube.com/watch?v=0mDlMAMLLAc PICCOLO co-developer Lori Roggman describes how the PICCOLO can help you provide positive feedback to parents\, develop interventions to help parents build skills\, and track the positive outcomes of your parent support program. For more information about the PICCOLO\, please visit the Brookes website at https://brookespublishing.com/product/piccolo/. \nRegister Here   \n*Note: This training is only for those who have gone through The PICCOLO in Practice 3-day training. \nFor more information or questions\, contact Adrienne Matthias at amatthias@startearly.org
URL:https://earlyrelationalhealth.org/event/piccolo-refresher/
LOCATION:Virtual
CATEGORIES:Community Offerings
ATTACH;FMTTYPE=image/png:https://earlyrelationalhealth.org/wp-content/uploads/2025/09/8.png
END:VEVENT
BEGIN:VEVENT
DTSTART;TZID=UTC:20251117T110000
DTEND;TZID=UTC:20251117T123000
DTSTAMP:20260422T092459
CREATED:20251017T153016Z
LAST-MODIFIED:20251017T153016Z
UID:10001195-1763377200-1763382600@earlyrelationalhealth.org
SUMMARY:Applying Ubuntu in IECMH: From Intention to Implementation
DESCRIPTION:In the field of IECMH we acknowledge the importance of community in our work with young children and their families\, but what does it really mean to truly embody and practice authentic community connections as a central part of our Healing Justice work in IECMH? In this workshop: \n\n\nWe will introduce and discuss how community mental health has largely been given lip-service in current mainstream approaches to IECMH and MH in general. \n\n\nWe will explore decolonizing and revitalizing IECMH by uplifting an explicit focus on Black Community Mental Health — utilizing a strong Africentric lens. \n\n\nWe will share some promising work happening around the country. \n\n\nPlease join us. We want to hear and learn from your community practices too! \n\n\n\n\n\n\n\n\nFacilitated by Eva Marie Shivers\, J.D.\, Ph.D. Executive Director Indigo Cultural Center\, Inc. \n\n\n\n\nRegister now.
URL:https://earlyrelationalhealth.org/event/applying-ubuntu-in-iecmh-from-intention-to-implementation/
LOCATION:Virtual
CATEGORIES:Community Offerings
ATTACH;FMTTYPE=image/png:https://earlyrelationalhealth.org/wp-content/uploads/2025/09/7.png
END:VEVENT
BEGIN:VEVENT
DTSTART;TZID=UTC:20251118T120000
DTEND;TZID=UTC:20251118T130000
DTSTAMP:20260422T092459
CREATED:20251016T171836Z
LAST-MODIFIED:20251016T171836Z
UID:10001192-1763467200-1763470800@earlyrelationalhealth.org
SUMMARY:Perinatal Mental Health in Practice-Extended Learning Opportunity
DESCRIPTION:Perinatal Mental Health in Practice: Extended Learning Opportunity (ELO) is open to all home visitors and supervisors who carry a caseload. In this one-hour session\, facilitated by Mia Edidin LICSW\, home visitors and supervisors receive real-time support and learning opportunities. Participants will have the opportunity to take part in case consultation and resource sharing\, ensuring home visitors have the tools they need to provide high-quality\, family centered screening and support. \nGroups are held from 12-1pm:  \nELO: November 18th \nELO: December 4th \nELO: February 26th \nELO: April 9th \nFor more information or questions\, contact Adrienne Matthias at amatthias@startearly.org
URL:https://earlyrelationalhealth.org/event/perinatal-mental-health-in-practice-extended-learning-opportunity/
LOCATION:Virtual
CATEGORIES:Community Offerings
ATTACH;FMTTYPE=image/png:https://earlyrelationalhealth.org/wp-content/uploads/2025/09/7.png
END:VEVENT
BEGIN:VEVENT
DTSTART;TZID=UTC:20251119T110000
DTEND;TZID=UTC:20251119T120000
DTSTAMP:20260422T092459
CREATED:20251016T171934Z
LAST-MODIFIED:20251016T171934Z
UID:10001193-1763550000-1763553600@earlyrelationalhealth.org
SUMMARY:Home Visitor Peer Connections
DESCRIPTION:Home Visitor Peer Connections provide an open space for home visitors across the state to connect with each other about their work. During this time there will be a focus on the Washington state Home Visiting Core Competencies. \nCompetencies are observable actions that require a combination of knowledge\, skills\, and attributes necessary to perform a major task or function in the work setting. Each session will focus on one competency area to support the enhancement of skills\, knowledge\, and attributes of home visiting work. Participation is flexible—you’re welcome to join sessions as your schedule allows. Each session stands on its own. \nOur next session will be held on Wednesday\, November 19th (11-12pm) \nRegister Here  *Note: Peer connections are offered every other month. Upcoming dates will be posted on an ongoing basis. \nContact Adrienne Matthias (amatthias@startearly.org) or Alex Patricelli (apatricelli@startearly.org) with any questions.
URL:https://earlyrelationalhealth.org/event/home-visitor-peer-connections/
LOCATION:Virtual
CATEGORIES:Community Offerings
ATTACH;FMTTYPE=image/png:https://earlyrelationalhealth.org/wp-content/uploads/2025/09/7.png
END:VEVENT
BEGIN:VEVENT
DTSTART;TZID=UTC:20251124T110000
DTEND;TZID=UTC:20251124T123000
DTSTAMP:20260422T092459
CREATED:20251017T153136Z
LAST-MODIFIED:20251017T153136Z
UID:10001196-1763982000-1763987400@earlyrelationalhealth.org
SUMMARY:Practicing Decolonized Parenting When You’re Triggered & Tired
DESCRIPTION:How do we stay true to our values in justice and liberation as caregivers in this moment of uncertainty and chaos? \nSurviving under systemic oppression might leave you with so little bandwidth to be intentional in raising your little ones even when you know all too well that “liberation starts at home.” \n\n\n\n\n\n\n\n\nHow do we struggle well while showing up as the parents/caregivers we know we can be…most of the time?\n\n\n\n\n\n\n\n\n\n\n\nIn this interactive\, 90-minute teach-in\, you’ll explore:\n\n\n\n\n\n\n\n\n\n\n\n\n \n\n\n\n\n\n\n\n\n\n\nSustain your advocacy as a caregiving using the Hokey Pokey of Social Justice Parenting. \n\n\nProtect your child(ren) from oppression and still prepare them for liberation using the Social Justice Parenting Math. \n\n\nShift from (unintentionally) policing your child(ren) when you’re triggered and tired with one question from the Social Justice Parenting Playbook framework. \n\n\nWe’ll explore these topics together using a large group discussion. Participate as much or little as you’d like. Multitasking with children on your lap or in a messy (aka magical) living room is welcomed. Come curious. Come as you are. \nStaying aligned with your values in liberation while staying alive under systemic oppression is yikes on bikes. And you’re not alone. We’re in this struggle towards liberation together. \n\n\n\n\n\n\n\n\nFacilitated by Nat Nadha Vikitsreth\, LCSW (she/her)\, Founding Steward of Come Back to Care and host of the Come Back to Care Podcast \n\n\n\n\n\n\n\n\n\nRegister now.
URL:https://earlyrelationalhealth.org/event/practicing-decolonized-parenting-when-youre-triggered-tired/
LOCATION:Virtual
CATEGORIES:Community Offerings
ATTACH;FMTTYPE=image/png:https://earlyrelationalhealth.org/wp-content/uploads/2025/09/7.png
END:VEVENT
END:VCALENDAR